BEGIN:VCALENDAR
VERSION:2.0
PRODID:-//Grundschule Borgsdorf - ECPv6.15.18//NONSGML v1.0//EN
CALSCALE:GREGORIAN
METHOD:PUBLISH
X-WR-CALNAME:Grundschule Borgsdorf
X-ORIGINAL-URL:https://grundschule-borgsdorf.de
X-WR-CALDESC:Veranstaltungen für Grundschule Borgsdorf
REFRESH-INTERVAL;VALUE=DURATION:PT1H
X-Robots-Tag:noindex
X-PUBLISHED-TTL:PT1H
BEGIN:VTIMEZONE
TZID:Europe/Berlin
BEGIN:DAYLIGHT
TZOFFSETFROM:+0100
TZOFFSETTO:+0200
TZNAME:CEST
DTSTART:20230326T010000
END:DAYLIGHT
BEGIN:STANDARD
TZOFFSETFROM:+0200
TZOFFSETTO:+0100
TZNAME:CET
DTSTART:20231029T010000
END:STANDARD
BEGIN:DAYLIGHT
TZOFFSETFROM:+0100
TZOFFSETTO:+0200
TZNAME:CEST
DTSTART:20240331T010000
END:DAYLIGHT
BEGIN:STANDARD
TZOFFSETFROM:+0200
TZOFFSETTO:+0100
TZNAME:CET
DTSTART:20241027T010000
END:STANDARD
BEGIN:DAYLIGHT
TZOFFSETFROM:+0100
TZOFFSETTO:+0200
TZNAME:CEST
DTSTART:20250330T010000
END:DAYLIGHT
BEGIN:STANDARD
TZOFFSETFROM:+0200
TZOFFSETTO:+0100
TZNAME:CET
DTSTART:20251026T010000
END:STANDARD
END:VTIMEZONE
BEGIN:VEVENT
DTSTART;TZID=Europe/Berlin:20240311T170000
DTEND;TZID=Europe/Berlin:20240311T190000
DTSTAMP:20260426T060051
CREATED:20240112T080308Z
LAST-MODIFIED:20240112T080308Z
UID:2384-1710176400-1710183600@grundschule-borgsdorf.de
SUMMARY:Elternsprechtag
DESCRIPTION:Termine nach Vereinbarung
URL:https://grundschule-borgsdorf.de/event/elternsprechtag-2/
END:VEVENT
BEGIN:VEVENT
DTSTART;TZID=Europe/Berlin:20240312T180000
DTEND;TZID=Europe/Berlin:20240312T193000
DTSTAMP:20260426T060051
CREATED:20240112T080536Z
LAST-MODIFIED:20240112T080536Z
UID:2386-1710266400-1710271800@grundschule-borgsdorf.de
SUMMARY:3. Elternkonferenz
DESCRIPTION:Es nehmen die gewählten Elternvertreterinnen und – vertreter aller Klassen teil\, sowie die aus den Konferenzen der Lehrkräfte und der Schülerinnen und Schüler entsandten Vertreterinnen und Vertreter.
URL:https://grundschule-borgsdorf.de/event/3-elternkonferenz/
END:VEVENT
BEGIN:VEVENT
DTSTART;VALUE=DATE:20240322
DTEND;VALUE=DATE:20240323
DTSTAMP:20260426T060051
CREATED:20240112T080711Z
LAST-MODIFIED:20240112T080711Z
UID:2388-1711065600-1711151999@grundschule-borgsdorf.de
SUMMARY:Letzter Schultag vor den Osterferien
DESCRIPTION:
URL:https://grundschule-borgsdorf.de/event/letzter-schultag-vor-den-osterferien-2/
END:VEVENT
END:VCALENDAR