BEGIN:VCALENDAR
VERSION:2.0
PRODID:-//Grundschule Borgsdorf - ECPv6.15.18//NONSGML v1.0//EN
CALSCALE:GREGORIAN
METHOD:PUBLISH
X-WR-CALNAME:Grundschule Borgsdorf
X-ORIGINAL-URL:https://grundschule-borgsdorf.de
X-WR-CALDESC:Veranstaltungen für Grundschule Borgsdorf
REFRESH-INTERVAL;VALUE=DURATION:PT1H
X-Robots-Tag:noindex
X-PUBLISHED-TTL:PT1H
BEGIN:VTIMEZONE
TZID:Europe/Berlin
BEGIN:DAYLIGHT
TZOFFSETFROM:+0100
TZOFFSETTO:+0200
TZNAME:CEST
DTSTART:20240331T010000
END:DAYLIGHT
BEGIN:STANDARD
TZOFFSETFROM:+0200
TZOFFSETTO:+0100
TZNAME:CET
DTSTART:20241027T010000
END:STANDARD
BEGIN:DAYLIGHT
TZOFFSETFROM:+0100
TZOFFSETTO:+0200
TZNAME:CEST
DTSTART:20250330T010000
END:DAYLIGHT
BEGIN:STANDARD
TZOFFSETFROM:+0200
TZOFFSETTO:+0100
TZNAME:CET
DTSTART:20251026T010000
END:STANDARD
BEGIN:DAYLIGHT
TZOFFSETFROM:+0100
TZOFFSETTO:+0200
TZNAME:CEST
DTSTART:20260329T010000
END:DAYLIGHT
BEGIN:STANDARD
TZOFFSETFROM:+0200
TZOFFSETTO:+0100
TZNAME:CET
DTSTART:20261025T010000
END:STANDARD
END:VTIMEZONE
BEGIN:VEVENT
DTSTART;TZID=Europe/Berlin:20251013T134500
DTEND;TZID=Europe/Berlin:20251013T151500
DTSTAMP:20260420T142040
CREATED:20250909T074619Z
LAST-MODIFIED:20250909T074619Z
UID:3215-1760363100-1760368500@grundschule-borgsdorf.de
SUMMARY:2. Konferenz der Lehrkräfte
DESCRIPTION:nicht öffentlich \nEs nehmen alle Lehrkräfte (stimmberechtigt) und das pädagogische Personal  an der Konferenz teil\, \nsowie die Entsandten aus der Konferenz der Schülerinnen und Schüler und der Eltern (beratend). \n13.45 Uhr -15.15 Uhr \nweitere Infos bitte der Einladung entnehmen
URL:https://grundschule-borgsdorf.de/event/2-konferenz-der-lehrkraefte/
END:VEVENT
END:VCALENDAR