BEGIN:VCALENDAR
VERSION:2.0
PRODID:-//Grundschule Borgsdorf - ECPv6.15.18//NONSGML v1.0//EN
CALSCALE:GREGORIAN
METHOD:PUBLISH
X-ORIGINAL-URL:https://grundschule-borgsdorf.de
X-WR-CALDESC:Veranstaltungen für Grundschule Borgsdorf
REFRESH-INTERVAL;VALUE=DURATION:PT1H
X-Robots-Tag:noindex
X-PUBLISHED-TTL:PT1H
BEGIN:VTIMEZONE
TZID:Europe/Berlin
BEGIN:DAYLIGHT
TZOFFSETFROM:+0100
TZOFFSETTO:+0200
TZNAME:CEST
DTSTART:20240331T010000
END:DAYLIGHT
BEGIN:STANDARD
TZOFFSETFROM:+0200
TZOFFSETTO:+0100
TZNAME:CET
DTSTART:20241027T010000
END:STANDARD
BEGIN:DAYLIGHT
TZOFFSETFROM:+0100
TZOFFSETTO:+0200
TZNAME:CEST
DTSTART:20250330T010000
END:DAYLIGHT
BEGIN:STANDARD
TZOFFSETFROM:+0200
TZOFFSETTO:+0100
TZNAME:CET
DTSTART:20251026T010000
END:STANDARD
BEGIN:DAYLIGHT
TZOFFSETFROM:+0100
TZOFFSETTO:+0200
TZNAME:CEST
DTSTART:20260329T010000
END:DAYLIGHT
BEGIN:STANDARD
TZOFFSETFROM:+0200
TZOFFSETTO:+0100
TZNAME:CET
DTSTART:20261025T010000
END:STANDARD
END:VTIMEZONE
BEGIN:VEVENT
DTSTART;VALUE=DATE:20250922
DTEND;VALUE=DATE:20250923
DTSTAMP:20260422T122157
CREATED:20250909T073011Z
LAST-MODIFIED:20250909T073011Z
UID:3201-1758499200-1758585599@grundschule-borgsdorf.de
SUMMARY:Zahnarzt
DESCRIPTION:Klasse 1-6 \nProphylaxe und Untersuchung – keine Behandlung \nnach §21 des Sozialgesetzbuches V (Gesundheitsdienst- und Schulgesetz) \nInfos der Klassenleitungen beachten
URL:https://grundschule-borgsdorf.de/event/zahnarzt/
END:VEVENT
BEGIN:VEVENT
DTSTART;TZID=Europe/Berlin:20250922T120000
DTEND;TZID=Europe/Berlin:20250922T133000
DTSTAMP:20260422T122157
CREATED:20250909T072255Z
LAST-MODIFIED:20250909T072255Z
UID:3199-1758542400-1758547800@grundschule-borgsdorf.de
SUMMARY:1. Sitzung der Klassensprecherinnen und Klassensprecher
DESCRIPTION:voraussichtlich 5./6.Std.\, Einladung beachten \nTeilnahme aller Klassensprecherinnen und Klassensprecher \nentsandte Eltern- und Lehrervertreter
URL:https://grundschule-borgsdorf.de/event/1-sitzung-der-klassensprecherinnen-und-klassensprecher/
END:VEVENT
END:VCALENDAR