BEGIN:VCALENDAR
VERSION:2.0
PRODID:-//Grundschule Borgsdorf - ECPv6.15.18//NONSGML v1.0//EN
CALSCALE:GREGORIAN
METHOD:PUBLISH
X-ORIGINAL-URL:https://grundschule-borgsdorf.de
X-WR-CALDESC:Veranstaltungen für Grundschule Borgsdorf
REFRESH-INTERVAL;VALUE=DURATION:PT1H
X-Robots-Tag:noindex
X-PUBLISHED-TTL:PT1H
BEGIN:VTIMEZONE
TZID:Europe/Berlin
BEGIN:DAYLIGHT
TZOFFSETFROM:+0100
TZOFFSETTO:+0200
TZNAME:CEST
DTSTART:20230326T010000
END:DAYLIGHT
BEGIN:STANDARD
TZOFFSETFROM:+0200
TZOFFSETTO:+0100
TZNAME:CET
DTSTART:20231029T010000
END:STANDARD
BEGIN:DAYLIGHT
TZOFFSETFROM:+0100
TZOFFSETTO:+0200
TZNAME:CEST
DTSTART:20240331T010000
END:DAYLIGHT
BEGIN:STANDARD
TZOFFSETFROM:+0200
TZOFFSETTO:+0100
TZNAME:CET
DTSTART:20241027T010000
END:STANDARD
BEGIN:DAYLIGHT
TZOFFSETFROM:+0100
TZOFFSETTO:+0200
TZNAME:CEST
DTSTART:20250330T010000
END:DAYLIGHT
BEGIN:STANDARD
TZOFFSETFROM:+0200
TZOFFSETTO:+0100
TZNAME:CET
DTSTART:20251026T010000
END:STANDARD
END:VTIMEZONE
BEGIN:VEVENT
DTSTART;TZID=Europe/Berlin:20240202T074500
DTEND;TZID=Europe/Berlin:20240202T113000
DTSTAMP:20260425T213232
CREATED:20231208T105138Z
LAST-MODIFIED:20231208T105138Z
UID:2318-1706859900-1706873400@grundschule-borgsdorf.de
SUMMARY:letzter Schultag vor den Winterferien\, Ausgabe der Halbjahreszeugnisse und der Gutachten (6. Klassen)
DESCRIPTION:
URL:https://grundschule-borgsdorf.de/event/letzter-schultag-vor-den-winterferien-ausgabe-der-halbjahreszeugnisse-und-der-gutachten-6-klassen/
END:VEVENT
END:VCALENDAR