BEGIN:VCALENDAR
VERSION:2.0
PRODID:-//Grundschule Borgsdorf - ECPv6.15.18//NONSGML v1.0//EN
CALSCALE:GREGORIAN
METHOD:PUBLISH
X-WR-CALNAME:Grundschule Borgsdorf
X-ORIGINAL-URL:https://grundschule-borgsdorf.de
X-WR-CALDESC:Veranstaltungen für Grundschule Borgsdorf
REFRESH-INTERVAL;VALUE=DURATION:PT1H
X-Robots-Tag:noindex
X-PUBLISHED-TTL:PT1H
BEGIN:VTIMEZONE
TZID:Europe/Berlin
BEGIN:DAYLIGHT
TZOFFSETFROM:+0100
TZOFFSETTO:+0200
TZNAME:CEST
DTSTART:20230326T010000
END:DAYLIGHT
BEGIN:STANDARD
TZOFFSETFROM:+0200
TZOFFSETTO:+0100
TZNAME:CET
DTSTART:20231029T010000
END:STANDARD
BEGIN:DAYLIGHT
TZOFFSETFROM:+0100
TZOFFSETTO:+0200
TZNAME:CEST
DTSTART:20240331T010000
END:DAYLIGHT
BEGIN:STANDARD
TZOFFSETFROM:+0200
TZOFFSETTO:+0100
TZNAME:CET
DTSTART:20241027T010000
END:STANDARD
BEGIN:DAYLIGHT
TZOFFSETFROM:+0100
TZOFFSETTO:+0200
TZNAME:CEST
DTSTART:20250330T010000
END:DAYLIGHT
BEGIN:STANDARD
TZOFFSETFROM:+0200
TZOFFSETTO:+0100
TZNAME:CET
DTSTART:20251026T010000
END:STANDARD
END:VTIMEZONE
BEGIN:VEVENT
DTSTART;TZID=Europe/Berlin:20240122T134500
DTEND;TZID=Europe/Berlin:20240122T170000
DTSTAMP:20260425T233201
CREATED:20231208T104711Z
LAST-MODIFIED:20231208T104711Z
UID:2314-1705931100-1705942800@grundschule-borgsdorf.de
SUMMARY:Ü7 Klassenkonferenz 6a
DESCRIPTION:Es nehmen alle Lehrkräfte der Klasse teil und die Elternvertreterinnen/ Elternvertreter.
URL:https://grundschule-borgsdorf.de/event/ue7-klassenkonferenz-6a/
END:VEVENT
END:VCALENDAR