BEGIN:VCALENDAR
VERSION:2.0
PRODID:-//Grundschule Borgsdorf - ECPv6.15.18//NONSGML v1.0//EN
CALSCALE:GREGORIAN
METHOD:PUBLISH
X-WR-CALNAME:Grundschule Borgsdorf
X-ORIGINAL-URL:https://grundschule-borgsdorf.de
X-WR-CALDESC:Veranstaltungen für Grundschule Borgsdorf
REFRESH-INTERVAL;VALUE=DURATION:PT1H
X-Robots-Tag:noindex
X-PUBLISHED-TTL:PT1H
BEGIN:VTIMEZONE
TZID:Europe/Berlin
BEGIN:DAYLIGHT
TZOFFSETFROM:+0100
TZOFFSETTO:+0200
TZNAME:CEST
DTSTART:20230326T010000
END:DAYLIGHT
BEGIN:STANDARD
TZOFFSETFROM:+0200
TZOFFSETTO:+0100
TZNAME:CET
DTSTART:20231029T010000
END:STANDARD
BEGIN:DAYLIGHT
TZOFFSETFROM:+0100
TZOFFSETTO:+0200
TZNAME:CEST
DTSTART:20240331T010000
END:DAYLIGHT
BEGIN:STANDARD
TZOFFSETFROM:+0200
TZOFFSETTO:+0100
TZNAME:CET
DTSTART:20241027T010000
END:STANDARD
BEGIN:DAYLIGHT
TZOFFSETFROM:+0100
TZOFFSETTO:+0200
TZNAME:CEST
DTSTART:20250330T010000
END:DAYLIGHT
BEGIN:STANDARD
TZOFFSETFROM:+0200
TZOFFSETTO:+0100
TZNAME:CET
DTSTART:20251026T010000
END:STANDARD
END:VTIMEZONE
BEGIN:VEVENT
DTSTART;TZID=Europe/Berlin:20240115T134500
DTEND;TZID=Europe/Berlin:20240115T150000
DTSTAMP:20260426T005055
CREATED:20231208T104413Z
LAST-MODIFIED:20240112T075740Z
UID:2312-1705326300-1705330800@grundschule-borgsdorf.de
SUMMARY:Notenkonferenzen Klassen 3 bis 5
DESCRIPTION:Einladung erfolgt\, es nehmen alle Lehrkräfte einer Klasse teil und die Elternvertreterinnen/ Elternvertreter. \n13.45 Uhr    4b \n14.00 Uhr    4a \n14.15 Uhr      5a\, 5b \n14.30 Uhr      3a \n14.45 Uhr       3b
URL:https://grundschule-borgsdorf.de/event/notenkonferenzen-klassen-3-bis-5/
LOCATION:Grundschule Borgsdorf\, Bahnhofstraße 33\, Hohen Neuendorf OT Borgsdorf\, 16556\, Deutschland
END:VEVENT
END:VCALENDAR